BEGIN:VCALENDAR
VERSION:2.0
PRODID:-//The Division Dark Zone - Community Italiana - ECPv6.15.20//NONSGML v1.0//EN
CALSCALE:GREGORIAN
METHOD:PUBLISH
X-WR-CALNAME:The Division Dark Zone - Community Italiana
X-ORIGINAL-URL:https://thedivisiondarkzone.it
X-WR-CALDESC:Eventi per The Division Dark Zone - Community Italiana
REFRESH-INTERVAL;VALUE=DURATION:PT1H
X-Robots-Tag:noindex
X-PUBLISHED-TTL:PT1H
BEGIN:VTIMEZONE
TZID:Europe/Rome
BEGIN:DAYLIGHT
TZOFFSETFROM:+0100
TZOFFSETTO:+0200
TZNAME:CEST
DTSTART:20170326T010000
END:DAYLIGHT
BEGIN:STANDARD
TZOFFSETFROM:+0200
TZOFFSETTO:+0100
TZNAME:CET
DTSTART:20171029T010000
END:STANDARD
BEGIN:DAYLIGHT
TZOFFSETFROM:+0100
TZOFFSETTO:+0200
TZNAME:CEST
DTSTART:20180325T010000
END:DAYLIGHT
BEGIN:STANDARD
TZOFFSETFROM:+0200
TZOFFSETTO:+0100
TZNAME:CET
DTSTART:20181028T010000
END:STANDARD
BEGIN:DAYLIGHT
TZOFFSETFROM:+0100
TZOFFSETTO:+0200
TZNAME:CEST
DTSTART:20190331T010000
END:DAYLIGHT
BEGIN:STANDARD
TZOFFSETFROM:+0200
TZOFFSETTO:+0100
TZNAME:CET
DTSTART:20191027T010000
END:STANDARD
BEGIN:DAYLIGHT
TZOFFSETFROM:+0100
TZOFFSETTO:+0200
TZNAME:CEST
DTSTART:20200329T010000
END:DAYLIGHT
BEGIN:STANDARD
TZOFFSETFROM:+0200
TZOFFSETTO:+0100
TZNAME:CET
DTSTART:20201025T010000
END:STANDARD
BEGIN:DAYLIGHT
TZOFFSETFROM:+0100
TZOFFSETTO:+0200
TZNAME:CEST
DTSTART:20210328T010000
END:DAYLIGHT
BEGIN:STANDARD
TZOFFSETFROM:+0200
TZOFFSETTO:+0100
TZNAME:CET
DTSTART:20211031T010000
END:STANDARD
BEGIN:DAYLIGHT
TZOFFSETFROM:+0100
TZOFFSETTO:+0200
TZNAME:CEST
DTSTART:20220327T010000
END:DAYLIGHT
BEGIN:STANDARD
TZOFFSETFROM:+0200
TZOFFSETTO:+0100
TZNAME:CET
DTSTART:20221030T010000
END:STANDARD
BEGIN:DAYLIGHT
TZOFFSETFROM:+0100
TZOFFSETTO:+0200
TZNAME:CEST
DTSTART:20230326T010000
END:DAYLIGHT
BEGIN:STANDARD
TZOFFSETFROM:+0200
TZOFFSETTO:+0100
TZNAME:CET
DTSTART:20231029T010000
END:STANDARD
BEGIN:DAYLIGHT
TZOFFSETFROM:+0100
TZOFFSETTO:+0200
TZNAME:CEST
DTSTART:20240331T010000
END:DAYLIGHT
BEGIN:STANDARD
TZOFFSETFROM:+0200
TZOFFSETTO:+0100
TZNAME:CET
DTSTART:20241027T010000
END:STANDARD
BEGIN:DAYLIGHT
TZOFFSETFROM:+0100
TZOFFSETTO:+0200
TZNAME:CEST
DTSTART:20250330T010000
END:DAYLIGHT
BEGIN:STANDARD
TZOFFSETFROM:+0200
TZOFFSETTO:+0100
TZNAME:CET
DTSTART:20251026T010000
END:STANDARD
BEGIN:DAYLIGHT
TZOFFSETFROM:+0100
TZOFFSETTO:+0200
TZNAME:CEST
DTSTART:20260329T010000
END:DAYLIGHT
BEGIN:STANDARD
TZOFFSETFROM:+0200
TZOFFSETTO:+0100
TZNAME:CET
DTSTART:20261025T010000
END:STANDARD
BEGIN:DAYLIGHT
TZOFFSETFROM:+0100
TZOFFSETTO:+0200
TZNAME:CEST
DTSTART:20270328T010000
END:DAYLIGHT
BEGIN:STANDARD
TZOFFSETFROM:+0200
TZOFFSETTO:+0100
TZNAME:CET
DTSTART:20271031T010000
END:STANDARD
END:VTIMEZONE
BEGIN:VEVENT
DTSTART;TZID=Europe/Rome:20251216T180000
DTEND;TZID=Europe/Rome:20251226T235900
DTSTAMP:20260422T130816
CREATED:20251215T172433Z
LAST-MODIFIED:20251215T172433Z
UID:30816-1765908000-1766793540@thedivisiondarkzone.it
SUMMARY:Holiday Twitch Drops
DESCRIPTION:  \n HOLIDAY TWITCH DROPS (MAGGIORI INFO)\n  \n \nItasilAdmin/Founder di thedivisiondarkzone.it
URL:https://thedivisiondarkzone.it/event/holiday-twitch-drops/
CATEGORIES:Evento
END:VEVENT
BEGIN:VEVENT
DTSTART;TZID=Europe/Rome:20251216T123000
DTEND;TZID=Europe/Rome:20260113T093000
DTSTAMP:20260422T130816
CREATED:20251215T172601Z
LAST-MODIFIED:20260102T082738Z
UID:30818-1765888200-1768296600@thedivisiondarkzone.it
SUMMARY:Winter Event 2025
DESCRIPTION:WINTER EVENT 2025 (MAGGIORI INFO)\n  \n \nItasilAdmin/Founder di thedivisiondarkzone.it
URL:https://thedivisiondarkzone.it/event/winter-event-2025/
CATEGORIES:Evento
END:VEVENT
BEGIN:VEVENT
DTSTART;TZID=Europe/Rome:20251209T093000
DTEND;TZID=Europe/Rome:20251215T093000
DTSTAMP:20260422T130816
CREATED:20251208T202617Z
LAST-MODIFIED:20251208T202617Z
UID:30763-1765272600-1765791000@thedivisiondarkzone.it
SUMMARY:SURVIVE FEST
DESCRIPTION:TUTTE LE INFO SUL SURVIVE FEST\n  \n \nItasilAdmin/Founder di thedivisiondarkzone.it
URL:https://thedivisiondarkzone.it/event/survive-fest/
CATEGORIES:Evento
END:VEVENT
BEGIN:VEVENT
DTSTART;TZID=Europe/Rome:20240610T203000
DTEND;TZID=Europe/Rome:20240610T223000
DTSTAMP:20260422T130816
CREATED:20240605T151443Z
LAST-MODIFIED:20240610T104511Z
UID:29400-1718051400-1718058600@thedivisiondarkzone.it
SUMMARY:Ubisoft Forward 2024
DESCRIPTION:Ubisoft Forward è un evento speciale trasmesso da Ubisoft in diretta\, per presentare nuovi giochi e novità per giochi già usciti. Durante questo evento verranno rilasciate informazioni sull’Anno 6 di The Division 2. Noi ci occuperemo\, come sempre\, di pubblicare articoli dedicati con un riepilogo di quanto mostrato e di tutte le novità su The Division\, e saremo anche in co-stream in collaborazione con Ubisoft. \nDove guardare la diretta: \n\nTwitch Ubisoft (Twitch drops attivi)\nYoutube Ubisoft  ufficiale Ubisoft (anche con sottotitoli)\nTwitch dell’admin Itasil92 in co-stream ufficiale con Ubisoft (Twitch drops attivi)\n\nSe guarderai la diretta da Twitch\, che sia sul canale di Ubisoft o attraverso il co-streaming di altri canali nella categoria “eventi speciali”\, potrai ottenere fino a nove Drop di Twitch per diversi giochi seguendo l’evento per un determinato periodo di tempo (assicurati di aver collegato i tuoi account Ubisoft e Xbox/Playstation a Twitch dalle impostazioni). \n  \nPRE-LIVE CON NOI DALLE 18.00 – 18.30 CIRCA: \nQuesta live nello specifico non è fatta in collaborazione con Ubisoft\, è una live aggiuntiva per prepararci allo Ubisoft Forward. \nPremesso che l’orario potrebbe variare in base alla nostra disponibilità\, saremo live prima di Ubisoft per farci una chiacchierata\, e nel frattempo l’admin Itasil92 (Elena) disegnerà un’illustrazione di The Division sul suo canale. La live durerà fino alle 19.30 circa\, così da fare una pausa e poterci preparare per effettuare il co-stream dell’evento in collaborazione con Ubisoft. \n  \nPRE-SHOW ORE 20.30: \nNon appena Ubisoft andrà in onda\, torneremo live in co-stream ufficiale per il pre-show dello Ubisoft Forward. Durante il pre-show verranno mostrati gli aggiornamenti in arrivo per vari giochi\, tra cui The Division 2. \n  \nSHOW PRINCIPALE DALLE 21.00: \nAlle 21 inizierà lo show principale\, durante il quale verranno presentati nuovi giochi\, tra cui Assassin’s Creed Shadows\, Star Wars Outlaws e altri. \nEcco la lista dei Twitch Drops che potrete ricevere guardando la live. \n\n15 minuti: ricevi il Ciondolo Ultra Top Fan per Rainbow Six Siege\n20 minuti: ricevi il Ciondolo Alba nella foresta per Avatar: Frontiers of Pandora\n30 minuti: ricevi il Ciondolo Trailblazer per Star Wars Outlaws\n45 minuti: ricevi la M60 Eruption Weapon Skin per XDefiant e fuochi d’artificio del benvenuto in Skull and Bones per Skull and Bones\n60 minuti: ricevi l’Alfa Romeo 33 Stradale (1968) per The Crew Motorfest\, il Set equipaggiamento yurei bushido per Assassin’s Creed Valhalla e il Ciondolo Uchide-no-Kozuchi Koi per Assassin’s Creed Shadows\n\n  \nPOST SHOW: \nSarà la parte finale\, durante la quale verranno mostrate le novità della Stagione 1 dell’Anno 6 di TD2\, e potrete ottenere altri Twitch Drops\, in questo caso per The Division 2: \n\n15 minuti: ricevi la maschera Modern Deco su The Division 2.*\n20 minuti: ricevi la maschera Neo Deco su The Division 2.*\n\n*Per le ricompense del post-show non verrà considerato il tempo trascorso a guardare l’evento principale\, bensì verrà considerato quello trascorso guardando il post-show. \n  \n\n			\n				\n			\n			\n				\n			\n		\n\nItasilAdmin/Founder di thedivisiondarkzone.it
URL:https://thedivisiondarkzone.it/event/ubisoft-forward-2024/
CATEGORIES:Evento
ATTACH;FMTTYPE=image/avif:https://thedivisiondarkzone.it/wp-content/uploads/2024/06/V3_2024_UBISOFT_FWD_STD_16-9_adjusted.avif
END:VEVENT
BEGIN:VEVENT
DTSTART;TZID=Europe/Rome:20240430T080000
DTEND;TZID=Europe/Rome:20240430T170000
DTSTAMP:20260422T130816
CREATED:20240212T163142Z
LAST-MODIFIED:20240212T163142Z
UID:29204-1714464000-1714496400@thedivisiondarkzone.it
SUMMARY:Stagione 3 A5 Vanguard - Manhunt parte 4
DESCRIPTION:Stagione 3 Anno 5 “Vanguard”\, eventi attivi: \n\nCaccia all’uomo – Battery Park\nBonus XP doppi (1 settimana)\n\nInizio: 30 aprile 2024.\nDisponibile per tutta la durata della Stagione. \n  \nInfo utili: \n\nStagioni: cosa sono e come funzionano\nStagione 3 A5 Vanguard: tutte le info\nCome funziona la Caccia all’uomo e come ripetere le missioni dei bersagli delle altre Stagioni\n\nItasilAdmin/Founder di thedivisiondarkzone.it
URL:https://thedivisiondarkzone.it/event/stagione-3-a5-vanguard-manhunt-parte-4/
CATEGORIES:Evento,Stagioni
END:VEVENT
BEGIN:VEVENT
DTSTART;VALUE=DATE:20240402
DTEND;VALUE=DATE:20240403
DTSTAMP:20260422T130816
CREATED:20240212T163054Z
LAST-MODIFIED:20240212T163201Z
UID:29202-1712016000-1712102399@thedivisiondarkzone.it
SUMMARY:Stagione 3 A5 Vanguard - Manhunt parte 3
DESCRIPTION:Stagione 3 Anno 5 “Vanguard”\, eventi attivi: \n\nCaccia all’uomo – Distretto finanziario\nBonus XP doppi (1 settimana)\n\nInizio: 2 aprile 2024.\nDisponibile per tutta la durata della Stagione. \n  \nInfo utili: \n\nStagioni: cosa sono e come funzionano\nStagione 3 A5 Vanguard: tutte le info\nCome funziona la Caccia all’uomo e come ripetere le missioni dei bersagli delle altre Stagioni\n\nItasilAdmin/Founder di thedivisiondarkzone.it
URL:https://thedivisiondarkzone.it/event/stagione-3-a5-vanguard-manhunt-parte-3/
CATEGORIES:Evento,Stagioni
END:VEVENT
BEGIN:VEVENT
DTSTART;VALUE=DATE:20240305
DTEND;VALUE=DATE:20240306
DTSTAMP:20260422T130816
CREATED:20240212T162935Z
LAST-MODIFIED:20240212T162951Z
UID:29198-1709596800-1709683199@thedivisiondarkzone.it
SUMMARY:Stagione 3 A5 Vanguard - Manhunt parte 2
DESCRIPTION:Stagione 3 Anno 5 “Vanguard”\, eventi attivi: \n\nCaccia all’uomo – Two Bridges\nBonus XP doppi (1 settimana)\n\nInizio: 5 marzo 2024.\nDisponibile per tutta la durata della Stagione. \n  \nInfo utili: \n\nStagioni: cosa sono e come funzionano\nStagione 3 A5 Vanguard: tutte le info\nCome funziona la Caccia all’uomo e come ripetere le missioni dei bersagli delle altre Stagioni\n\nItasilAdmin/Founder di thedivisiondarkzone.it
URL:https://thedivisiondarkzone.it/event/stagione-3-a5-vanguard-manhunt-parte-2/
CATEGORIES:Evento,Stagioni
END:VEVENT
BEGIN:VEVENT
DTSTART;VALUE=DATE:20240206
DTEND;VALUE=DATE:20240207
DTSTAMP:20260422T130816
CREATED:20240212T162705Z
LAST-MODIFIED:20240212T162922Z
UID:29196-1707177600-1707263999@thedivisiondarkzone.it
SUMMARY:Stagione 3 A5 Vanguard - Manhunt parte 1
DESCRIPTION:Stagione 3 Anno 5 “Vanguard”\, eventi attivi: \n\nCaccia all’uomo – Centro Civico\nBonus XP doppi (1 settimana)\n\nInizio: 6 febbraio 2024.\nDisponibile per tutta la durata della Stagione. \n  \nInfo utili: \n\nStagioni: cosa sono e come funzionano\nStagione 3 A5 Vanguard: tutte le info\nCome funziona la Caccia all’uomo e come ripetere le missioni dei bersagli delle altre Stagioni\n\nItasilAdmin/Founder di thedivisiondarkzone.it
URL:https://thedivisiondarkzone.it/event/stagione-3-a5-vanguard-manhunt-parte-1/
CATEGORIES:Evento,Stagioni
END:VEVENT
BEGIN:VEVENT
DTSTART;TZID=Europe/Rome:20221206T093000
DTEND;TZID=Europe/Rome:20230131T093000
DTSTAMP:20260422T130816
CREATED:20221210T221545Z
LAST-MODIFIED:20221210T222103Z
UID:28219-1670319000-1675157400@thedivisiondarkzone.it
SUMMARY:Eventi natalizi
DESCRIPTION:6 dicembre: sblocco oggetti esclusivi per le festività\n\n(Oggetti nominali droppabili dall’npc “Goblin”: M44 “Oh Carol”\, Thompson 1928 “Tormento”\, maschera Gila Guard “Relax”)\n\n\n6 dicembre: evento globale Rianimato\n13 dicembre: sblocco outfit Babbo Natale\n13 dicembre: evento globale Tecnologia SHADE esposta\n20 dicembre: evento globale Hollywood\n27 dicembre: evento globale Proiettile d’oro\n3 gennaio: disattivazione outfit Babbo Natale\n31 gennaio: disattivazione oggetti esclusivi delle festività\n\nBonus di accesso giornaliero: dal 14 al 16 dicembre\, e dal 19 al 23 dicembre. \n \nItasilAdmin/Founder di thedivisiondarkzone.it
URL:https://thedivisiondarkzone.it/event/roadmap-natalizia/
CATEGORIES:Evento
END:VEVENT
BEGIN:VEVENT
DTSTART;VALUE=DATE:20210511
DTEND;VALUE=DATE:20210512
DTSTAMP:20260422T130816
CREATED:20210315T104303Z
LAST-MODIFIED:20210315T104303Z
UID:25945-1620691200-1620777599@thedivisiondarkzone.it
SUMMARY:TD2 Stagione 5 - Manhunt Mercurio + Giove
DESCRIPTION:Stagione 5\, evento attivo: \n\nCaccia all’uomo: Saturno (per tutta la durata della Stagione)\nCaccia all’uomo: Giove\nDoppi XP (1 settimana)\n\n  \nInfo utili: \n\nStagioni: cosa sono e come funzionano\nStagione 5: tutte le info\nTutto sulla Caccia all’uomo\n\nItasilAdmin/Founder di thedivisiondarkzone.it
URL:https://thedivisiondarkzone.it/event/td2-stagione-5-manhunt-mercurio-giove/
CATEGORIES:Evento,Stagioni
END:VEVENT
BEGIN:VEVENT
DTSTART;VALUE=DATE:20210420
DTEND;VALUE=DATE:20210421
DTSTAMP:20260422T130816
CREATED:20210315T104134Z
LAST-MODIFIED:20210315T104134Z
UID:25943-1618876800-1618963199@thedivisiondarkzone.it
SUMMARY:TD2 Stagione 5 - Manhunt Saturno
DESCRIPTION:Stagione 5\, evento attivo: \n\nCaccia all’uomo: Saturno (per tutta la durata della Stagione)\nDoppi XP (1 settimana)\n\n  \nInfo utili: \n\nStagioni: cosa sono e come funzionano\nStagione 5: tutte le info\nTutto sulla Caccia all’uomo\n\nItasilAdmin/Founder di thedivisiondarkzone.it
URL:https://thedivisiondarkzone.it/event/td2-stagione-5-manhunt-saturno/
CATEGORIES:Evento,Stagioni
END:VEVENT
BEGIN:VEVENT
DTSTART;VALUE=DATE:20210330
DTEND;VALUE=DATE:20210331
DTSTAMP:20260422T130816
CREATED:20210315T103923Z
LAST-MODIFIED:20210315T103923Z
UID:25937-1617062400-1617148799@thedivisiondarkzone.it
SUMMARY:TD2 Stagione 5 - Manhunt Venere
DESCRIPTION:Stagione 5\, evento attivo: \n\nCaccia all’uomo: Venere (per tutta la durata della Stagione)\nDoppi XP (1 settimana)\n\n  \nInfo utili: \n\nStagioni: cosa sono e come funzionano\nStagione 5: tutte le info\nTutto sulla Caccia all’uomo\n\nItasilAdmin/Founder di thedivisiondarkzone.it
URL:https://thedivisiondarkzone.it/event/td2-stagione-5-manhunt-venere/
CATEGORIES:Evento,Stagioni
END:VEVENT
BEGIN:VEVENT
DTSTART;TZID=Europe/Rome:20210316T090000
DTEND;TZID=Europe/Rome:20210330T090000
DTSTAMP:20260422T130816
CREATED:20210315T103632Z
LAST-MODIFIED:20210315T103701Z
UID:25929-1615885200-1617094800@thedivisiondarkzone.it
SUMMARY:TD2 Stagione 5 - League Ovest
DESCRIPTION:Stagione 5\, evento attivo: \n\nLeague Ovest\n\n  \nInfo utili: \n\nStagioni: cosa sono e come funzionano\nStagione 5: tutte le info\nTutto sulle League\n\n  \nItasilAdmin/Founder di thedivisiondarkzone.it
URL:https://thedivisiondarkzone.it/event/25929/
CATEGORIES:Evento,League,Stagioni
END:VEVENT
BEGIN:VEVENT
DTSTART;VALUE=DATE:20210309
DTEND;VALUE=DATE:20210310
DTSTAMP:20260422T130816
CREATED:20210315T103421Z
LAST-MODIFIED:20210315T103548Z
UID:25927-1615248000-1615334399@thedivisiondarkzone.it
SUMMARY:TD2 Stagione 5 - Manhunt Nettuno
DESCRIPTION:Stagione 5\, evento attivo: \n\nCaccia all’uomo: Nettuno (per tutta la durata della Stagione)\nDoppi XP (1 settimana)\n\n  \nInfo utili: \n\nStagioni: cosa sono e come funzionano\nStagione 5: tutte le info\nTutto sulla Caccia all’uomo\n\nItasilAdmin/Founder di thedivisiondarkzone.it
URL:https://thedivisiondarkzone.it/event/td2-stagione-5-manhunt-nettuno/
CATEGORIES:Evento,Stagioni
END:VEVENT
BEGIN:VEVENT
DTSTART;TZID=Europe/Rome:20200225T100000
DTEND;TZID=Europe/Rome:20200310T100000
DTSTAMP:20260422T130816
CREATED:20200124T143313Z
LAST-MODIFIED:20200223T170640Z
UID:20739-1582624800-1583834400@thedivisiondarkzone.it
SUMMARY:Spedizione: Kenly College
DESCRIPTION:Il 28 gennaio riapre la spedizione al Kenly College\, e resterà aperta per 2 settimane. \n  \n MAGGIORI INFO SULLE SPEDIZIONI\nItasilAdmin/Founder di thedivisiondarkzone.it
URL:https://thedivisiondarkzone.it/event/spedizione-kenly-college/
CATEGORIES:Evento
ATTACH;FMTTYPE=image/png:https://thedivisiondarkzone.it/wp-content/uploads/2019/06/spedizioni.png
END:VEVENT
BEGIN:VEVENT
DTSTART;VALUE=DATE:20191210
DTEND;VALUE=DATE:20191211
DTSTAMP:20260422T130816
CREATED:20191209T152625Z
LAST-MODIFIED:20191209T152625Z
UID:20603-1575936000-1576022399@thedivisiondarkzone.it
SUMMARY:Evento Abiti #5: Silent Night
DESCRIPTION:10 dicembre 2019 / 7 gennaio 2020 \n TUTTE LE INFO SULL’EVENTO\nItasilAdmin/Founder di thedivisiondarkzone.it
URL:https://thedivisiondarkzone.it/event/evento-abiti-5-silent-night/
CATEGORIES:Evento
END:VEVENT
BEGIN:VEVENT
DTSTART;VALUE=DATE:20190815
DTEND;VALUE=DATE:20190816
DTSTAMP:20260422T130816
CREATED:20190725T191522Z
LAST-MODIFIED:20190725T191522Z
UID:19325-1565827200-1565913599@thedivisiondarkzone.it
SUMMARY:Chiusura Evento Abiti #3
DESCRIPTION:EVENTO #3: ONDA DI CALORE\n\nChiusura evento: Dal 15 agosto al 22 agosto. È possibile utilizzare le chiavi rimaste per aprire altre casse dell’evento\, ed è ancora possibile acquistarne altre per completare i pezzi mancanti.\nPost evento: Dal 22 agosto in poi. Tutti gli oggetti delle casse evento verranno spostati nelle casse abiti standard e potranno essere ottenuti giocando. Si potranno anche acquistare dal Negozio\, tranne l’uniforme dei Black Tusk che sarà ottenibile solo fino al 2 maggio.\n\n  \n TUTTO SUGLI EVENTI ABITI\nItasilAdmin/Founder di thedivisiondarkzone.it
URL:https://thedivisiondarkzone.it/event/chiusura-evento-abiti-3/
CATEGORIES:Evento
END:VEVENT
BEGIN:VEVENT
DTSTART;VALUE=DATE:20190723
DTEND;VALUE=DATE:20190724
DTSTAMP:20260422T130816
CREATED:20190725T191419Z
LAST-MODIFIED:20190725T191419Z
UID:19323-1563840000-1563926399@thedivisiondarkzone.it
SUMMARY:Inizio Evento Abiti #3
DESCRIPTION:EVENTO #3: ONDA DI CALORE\nNelle casse abiti Invasione è possibile trovare in totale 40 oggetti\, tra cui 5 uniformi\, 1 maschera\, 5 emote e 7 skin armi. \nRicompense speciali\n\nMaschera antipolvere (extra): si ottiene completando le 5 uniformi.\nUniforme Muta da Sub: si ottiene raccogliendo tutti e 40 gli oggetti delle casse abiti Onda di calore. Fattibile soltanto durante l’evento.\nTinta Top delle toppe + Skin arma Spirito libero: si ottiene completando l’outfit Dallas.\nTinta Bermuda: si ottiene completando l’outfit Seattle.\nTinta Pastello: si ottiene completando l’outfit Havana.\n\nFasi evento\n\nDurata evento: Dal 23 luglio al 15 agosto. In questa fase le chiavi potranno essere ottenute nei modi elencati su “COME FUNZIONA”.\nChiusura evento: Dal 15 agosto al 22 agosto. È possibile utilizzare le chiavi rimaste per aprire altre casse dell’evento\, ed è ancora possibile acquistarne altre per completare i pezzi mancanti.\nPost evento: Dal 22 agosto in poi. Tutti gli oggetti delle casse evento verranno spostati nelle casse abiti standard e potranno essere ottenuti giocando. Si potranno anche acquistare dal Negozio\, tranne l’uniforme dei Black Tusk che sarà ottenibile solo fino al 2 maggio.\n\n  \n TUTTO SUGLI EVENTI ABITI\nItasilAdmin/Founder di thedivisiondarkzone.it
URL:https://thedivisiondarkzone.it/event/inizio-evento-abiti-3/
CATEGORIES:Evento
END:VEVENT
BEGIN:VEVENT
DTSTART;VALUE=DATE:20190613
DTEND;VALUE=DATE:20190614
DTSTAMP:20260422T130816
CREATED:20190523T120751Z
LAST-MODIFIED:20190523T120838Z
UID:18569-1560384000-1560470399@thedivisiondarkzone.it
SUMMARY:Fine evento abiti
DESCRIPTION:L’EVENTO ABITI CUORE DELLA NOTTE TERMINA OGGI!\nDa questo momento\, non è più possibile ottenere l’uniforme da attività fuori sede.\n  \nTutto sugli Eventi Abiti\n  \nItasilAdmin/Founder di thedivisiondarkzone.it
URL:https://thedivisiondarkzone.it/event/18569/
CATEGORIES:Evento
END:VEVENT
BEGIN:VEVENT
DTSTART;VALUE=DATE:20190516
DTEND;VALUE=DATE:20190517
DTSTAMP:20260422T130816
CREATED:20190515T185042Z
LAST-MODIFIED:20190515T185105Z
UID:18484-1557964800-1558051199@thedivisiondarkzone.it
SUMMARY:Inizio Evento Abiti #2
DESCRIPTION:A partire dalle 18.00 sarà possibile giocare l’evento abiti #2. \nTutto sugli Eventi Abiti\n  \n  \nItasilAdmin/Founder di thedivisiondarkzone.it
URL:https://thedivisiondarkzone.it/event/inizio-evento-abiti-2/
CATEGORIES:Evento
END:VEVENT
BEGIN:VEVENT
DTSTART;VALUE=DATE:20190502
DTEND;VALUE=DATE:20190503
DTSTAMP:20260422T130816
CREATED:20190426T165359Z
LAST-MODIFIED:20190426T165424Z
UID:18248-1556755200-1556841599@thedivisiondarkzone.it
SUMMARY:Fine Evento Abiti
DESCRIPTION:L’EVENTO ABITI TERMINA OGGI!\nDa questo momento\, non è più possibile ottenere l’uniforme dei Black Tusk.\n  \nTutto sugli Eventi Abiti\n  \n  \nItasilAdmin/Founder di thedivisiondarkzone.it
URL:https://thedivisiondarkzone.it/event/fine-evento-abiti/
CATEGORIES:Evento
END:VEVENT
BEGIN:VEVENT
DTSTART;VALUE=DATE:20190315
DTEND;VALUE=DATE:20190316
DTSTAMP:20260422T130816
CREATED:20180908T203842Z
LAST-MODIFIED:20180908T203842Z
UID:14236-1552608000-1552694399@thedivisiondarkzone.it
SUMMARY:Uscita The Division 2
DESCRIPTION:Rilascio ufficiale di Tom Clancy’s The Division 2. \n \nItasilAdmin/Founder di thedivisiondarkzone.it
URL:https://thedivisiondarkzone.it/event/uscita-the-division-2/
CATEGORIES:Evento
ATTACH;FMTTYPE=image/jpeg:https://thedivisiondarkzone.it/wp-content/uploads/2018/06/TD2-banner.jpg
END:VEVENT
BEGIN:VEVENT
DTSTART;VALUE=DATE:20190312
DTEND;VALUE=DATE:20190313
DTSTAMP:20260422T130816
CREATED:20180908T204249Z
LAST-MODIFIED:20180908T204249Z
UID:14238-1552348800-1552435199@thedivisiondarkzone.it
SUMMARY:Accesso Anticipato The Division 2
DESCRIPTION:Coloro che hanno prenotato le edizioni Gold\, Ultimate\, Dark Zone e Phoenix Shield dai rivenditori autorizzati e dallo store Ubisoft\, possono accedere 3 giorni in anticipo a The Division 2. \nScopri tutte le edizioni sulla pagina dedicata. \n \nItasilAdmin/Founder di thedivisiondarkzone.it
URL:https://thedivisiondarkzone.it/event/accesso-anticipato-the-division-2/
CATEGORIES:Evento
ATTACH;FMTTYPE=image/jpeg:https://thedivisiondarkzone.it/wp-content/uploads/2018/06/TD2-banner.jpg
END:VEVENT
BEGIN:VEVENT
DTSTART;VALUE=DATE:20180927
DTEND;VALUE=DATE:20180928
DTSTAMP:20260422T130816
CREATED:20180908T203401Z
LAST-MODIFIED:20180908T203401Z
UID:14234-1538006400-1538092799@thedivisiondarkzone.it
SUMMARY:Development Blog
DESCRIPTION:Il 27 settembre Ubisoft farà un Development Blog\, durante il quale potrebbe rilasciare informazioni su The Division 2. Ricordate di seguire la home del sito\, o la sezione news del gioco. \nItasilAdmin/Founder di thedivisiondarkzone.it
URL:https://thedivisiondarkzone.it/event/development-blog/
CATEGORIES:Evento
END:VEVENT
BEGIN:VEVENT
DTSTART;TZID=Europe/Rome:20180913T090000
DTEND;TZID=Europe/Rome:20180916T190000
DTSTAMP:20260422T130816
CREATED:20180908T201542Z
LAST-MODIFIED:20180912T180402Z
UID:14223-1536829200-1537124400@thedivisiondarkzone.it
SUMMARY:Free Weekend - tutte le piattaforme
DESCRIPTION:The Division sarà disponibile gratuitamente su tutte le piattaforme. \n\nPreload a partire dal 12 settembre ore 19.00.\nL’evento inizia giovedì 13 settembre ore 9.00.\nTermina domenica 16 settembre ore 19.00.\nCliccare su free.ubisoft.com per ottenere il free weekend su PC.\n\nFAQ: \n\nI progressi fatti durante il weekend gratuito verranno mantenuti in caso di acquisto del gioco.\nI giocatori avranno accesso al gioco base completo\, ma non ai DLC.\n\n\nPreload The Division on Uplay now for a back-to-back Free Weekend! Sign up: https://t.co/vRq43jDAqr pic.twitter.com/PkzpuzVSEG \n— Ubisoft Uplay (@UbisoftUplay) September 12\, 2018 \n \nItasilAdmin/Founder di thedivisiondarkzone.it
URL:https://thedivisiondarkzone.it/event/free-weekend-ps4-xbox-one/
CATEGORIES:Evento
ATTACH;FMTTYPE=image/png:https://thedivisiondarkzone.it/wp-content/uploads/2018/09/freeweekend.png
END:VEVENT
BEGIN:VEVENT
DTSTART;TZID=Europe/Rome:20180906T190000
DTEND;TZID=Europe/Rome:20180909T100000
DTSTAMP:20260422T130816
CREATED:20180908T200553Z
LAST-MODIFIED:20180908T200553Z
UID:14221-1536260400-1536487200@thedivisiondarkzone.it
SUMMARY:Free Weekend PC - The Division
DESCRIPTION:Questo weekend\, The Division sarà disponibile gratuitamente su PC. \n\nIl Pre-load sarà disponibile su Uplay a partire da mercoledì 5 settembre dalle 19.00.\nL’evento inizia giovedì 6 settembre alle 19.00.\nTermina domenica 9 settembre alle 10.00.\n\nThe Division sarà giocabile gratuitamente anche su PS4 e Xbox One il prossimo weekend. \n\nL’evento inizia giovedì 13 settembre.\nTermina domenica 16 settembre.\n\nFAQ: \n\nI progressi fatti durante il weekend gratuito verranno mantenuti in caso di acquisto del gioco.\nI giocatori avranno accesso al gioco base completo\, ma non ai DLC.\n\nItasilAdmin/Founder di thedivisiondarkzone.it
URL:https://thedivisiondarkzone.it/event/free-weekend-pc-the-division/
CATEGORIES:Evento
ATTACH;FMTTYPE=image/png:https://thedivisiondarkzone.it/wp-content/uploads/2018/09/freeweekend-pc.png
END:VEVENT
BEGIN:VEVENT
DTSTART;VALUE=DATE:20180906
DTEND;VALUE=DATE:20180907
DTSTAMP:20260422T130816
CREATED:20180908T194311Z
LAST-MODIFIED:20180908T194311Z
UID:14208-1536192000-1536278399@thedivisiondarkzone.it
SUMMARY:Scudo "Talon"
DESCRIPTION:Avvio dello Scudo “Artiglio” Talon. \nObiettivo: Ottieni un punteggio Onorificenze di 3000. \nRicompensa su The Division: \n\nUna toppa (patch) per ogni scudo;\nUna registrazione audio per ogni scudo;\nCasse Scudi: contengono 1 arma esotica\, 2 pezzi di set equip. top secret\, 2000 crediti Phoenix\, 500 equip. divisione e 3 chiavi criptate.\n\n Maggiori informazioni sugli Scudi\nItasilAdmin/Founder di thedivisiondarkzone.it
URL:https://thedivisiondarkzone.it/event/scudo-talon/
CATEGORIES:Evento
ATTACH;FMTTYPE=image/jpeg:https://thedivisiondarkzone.it/wp-content/uploads/2018/09/shield-talon.jpg
END:VEVENT
END:VCALENDAR