BEGIN:VCALENDAR
VERSION:2.0
PRODID:-//The Division Dark Zone - Community Italiana - ECPv6.15.20//NONSGML v1.0//EN
CALSCALE:GREGORIAN
METHOD:PUBLISH
X-WR-CALNAME:The Division Dark Zone - Community Italiana
X-ORIGINAL-URL:https://thedivisiondarkzone.it
X-WR-CALDESC:Eventi per The Division Dark Zone - Community Italiana
REFRESH-INTERVAL;VALUE=DURATION:PT1H
X-Robots-Tag:noindex
X-PUBLISHED-TTL:PT1H
BEGIN:VTIMEZONE
TZID:Europe/Rome
BEGIN:DAYLIGHT
TZOFFSETFROM:+0100
TZOFFSETTO:+0200
TZNAME:CEST
DTSTART:20170326T010000
END:DAYLIGHT
BEGIN:STANDARD
TZOFFSETFROM:+0200
TZOFFSETTO:+0100
TZNAME:CET
DTSTART:20171029T010000
END:STANDARD
BEGIN:DAYLIGHT
TZOFFSETFROM:+0100
TZOFFSETTO:+0200
TZNAME:CEST
DTSTART:20180325T010000
END:DAYLIGHT
BEGIN:STANDARD
TZOFFSETFROM:+0200
TZOFFSETTO:+0100
TZNAME:CET
DTSTART:20181028T010000
END:STANDARD
BEGIN:DAYLIGHT
TZOFFSETFROM:+0100
TZOFFSETTO:+0200
TZNAME:CEST
DTSTART:20190331T010000
END:DAYLIGHT
BEGIN:STANDARD
TZOFFSETFROM:+0200
TZOFFSETTO:+0100
TZNAME:CET
DTSTART:20191027T010000
END:STANDARD
BEGIN:DAYLIGHT
TZOFFSETFROM:+0100
TZOFFSETTO:+0200
TZNAME:CEST
DTSTART:20200329T010000
END:DAYLIGHT
BEGIN:STANDARD
TZOFFSETFROM:+0200
TZOFFSETTO:+0100
TZNAME:CET
DTSTART:20201025T010000
END:STANDARD
END:VTIMEZONE
BEGIN:VEVENT
DTSTART;TZID=Europe/Rome:20190122T170000
DTEND;TZID=Europe/Rome:20190122T180000
DTSTAMP:20260425T123124
CREATED:20190122T134759Z
LAST-MODIFIED:20190122T134759Z
UID:15342-1548176400-1548180000@thedivisiondarkzone.it
SUMMARY:TD2 Special Report
DESCRIPTION:SPECIAL REPORT\nAlle ore 17.00 ci sarà uno Special Report sui canali ufficiali\, durante il quale si parlerà del PvP e delle Zone Nere di The Division 2. \n\nTwitch \nMixer \nFacebook \nYouTube \n\n  \nItasilAdmin/Founder di thedivisiondarkzone.it
URL:https://thedivisiondarkzone.it/event/td2-special-report/
CATEGORIES:Stato del Gioco
END:VEVENT
BEGIN:VEVENT
DTSTART;TZID=Europe/Rome:20181011T170000
DTEND;TZID=Europe/Rome:20181011T173000
DTSTAMP:20260425T123124
CREATED:20180927T155825Z
LAST-MODIFIED:20181004T174917Z
UID:14405-1539277200-1539279000@thedivisiondarkzone.it
SUMMARY:Stato del Gioco
DESCRIPTION:Alle 17.00 sul canale ufficiale di The Division su Twitch\, verrà trasmesso lo State of the Game. Come sempre\, sul nostro sito troverete l’articolo di riepilogo tradotto in italiano. \nwww.twitch.tv/thedivisiongame \n \nItasilAdmin/Founder di thedivisiondarkzone.it
URL:https://thedivisiondarkzone.it/event/stato-del-gioco-3/
CATEGORIES:Stato del Gioco
ATTACH;FMTTYPE=image/png:https://thedivisiondarkzone.it/wp-content/uploads/2017/08/statodelgioco.png
END:VEVENT
BEGIN:VEVENT
DTSTART;TZID=Europe/Rome:20180927T170000
DTEND;TZID=Europe/Rome:20180927T173000
DTSTAMP:20260425T123124
CREATED:20180908T201726Z
LAST-MODIFIED:20180908T201726Z
UID:14226-1538067600-1538069400@thedivisiondarkzone.it
SUMMARY:Stato del Gioco
DESCRIPTION:Alle 17.00 sul canale ufficiale di The Division su Twitch\, verrà trasmesso lo State of the Game. Come sempre\, sul nostro sito troverete l’articolo di riepilogo tradotto in italiano. \nwww.twitch.tv/thedivisiongame \n \nItasilAdmin/Founder di thedivisiondarkzone.it
URL:https://thedivisiondarkzone.it/event/stato-del-gioco-2/
CATEGORIES:Stato del Gioco
ATTACH;FMTTYPE=image/png:https://thedivisiondarkzone.it/wp-content/uploads/2017/08/statodelgioco.png
END:VEVENT
BEGIN:VEVENT
DTSTART;TZID=Europe/Rome:20180906T170000
DTEND;TZID=Europe/Rome:20180906T173000
DTSTAMP:20260425T123124
CREATED:20180908T195351Z
LAST-MODIFIED:20180908T195351Z
UID:14217-1536253200-1536255000@thedivisiondarkzone.it
SUMMARY:Stato del Gioco
DESCRIPTION:Alle 17.00 sul canale ufficiale di The Division su Twitch\, verrà trasmesso lo State of the Game. Come sempre\, sul nostro sito troverete l’articolo di riepilogo tradotto in italiano. \nwww.twitch.tv/thedivisiongame \n \nItasilAdmin/Founder di thedivisiondarkzone.it
URL:https://thedivisiondarkzone.it/event/stato-del-gioco/
CATEGORIES:Stato del Gioco
ATTACH;FMTTYPE=image/png:https://thedivisiondarkzone.it/wp-content/uploads/2017/08/statodelgioco.png
END:VEVENT
END:VCALENDAR